BEGIN:VCALENDAR
VERSION:2.0
PRODID:-//OmniMagnetCalendar//EN
BEGIN:VEVENT
DTSTAMP:20190625T195740Z
STATUS:CONFIRMED
UID:hcnorthshore.clubs.harvard.edu189
DTSTART:20200323T223048Z
DTEND:20200324T003048Z
LOCATION:Hawthorne Hotel, 18 Washington Square, Salem, MA, 01970, USA,
SUMMARY:The Forgotten Impressionist Mary Rogers Williams, 1857-1907..
DESCRIPTION:
BEGIN:VALARM
TRIGGER:-PT15M
ACTION:DISPLAY
END:VALARM
TRANSP:OPAQUE
END:VEVENT
END:VCALENDAR
