BEGIN:VCALENDAR
VERSION:2.0
PRODID:-//OmniMagnetCalendar//EN
BEGIN:VEVENT
DTSTAMP:20190625T195740Z
STATUS:CONFIRMED
UID:hcnorthshore.clubs.harvard.edu186
DTSTART:20191027T183001Z
DTEND:20191027T210000Z
LOCATION:Larcom Theater, 13 Wallis Street, Beverly, MA, 01915, United States,
SUMMARY:Saltonstall's Trial: One man's stand against the Salem witch trials - October 27 2:30 Matinee
DESCRIPTION:
BEGIN:VALARM
TRIGGER:-PT15M
ACTION:DISPLAY
END:VALARM
TRANSP:OPAQUE
END:VEVENT
END:VCALENDAR
