BEGIN:VCALENDAR
VERSION:2.0
PRODID:-//OmniMagnetCalendar//EN
BEGIN:VEVENT
DTSTAMP:20190625T195740Z
STATUS:CONFIRMED
UID:hcnorthshore.clubs.harvard.edu180
DTSTART:20190520T223000Z
DTEND:20190521T003000Z
LOCATION:Hawthorne Hotel, 18 Washington Square, Salem, MA, 01970,
SUMMARY:Fascinating North Shore based Whale Research,  Tuesday, May 21, "SnotBot & Drones for Whale Research
DESCRIPTION:
BEGIN:VALARM
TRIGGER:-PT15M
ACTION:DISPLAY
END:VALARM
TRANSP:OPAQUE
END:VEVENT
END:VCALENDAR
