BEGIN:VCALENDAR
VERSION:2.0
PRODID:-//OmniMagnetCalendar//EN
BEGIN:VEVENT
DTSTAMP:20190625T195740Z
STATUS:CONFIRMED
UID:hcnorthshore.clubs.harvard.edu174
DTSTART:20190413T181500Z
DTEND:20190413T220000Z
LOCATION:Peabody Essex Museum, East India Square, Salem, MA, 01970, USA,
SUMMARY:Nature's Nation:  American Art and Environment at the Peabody Essex Museum April 13th
DESCRIPTION:    The tour will be followed by a gathering at Turner Fisheries. Following our PEM tour, at 4:15, we have arranged with HCNS members Jim and Kathi Turner for a gathering at Turner Fisheries.  An opportunity to discuss art, the weather, and whatever e
BEGIN:VALARM
TRIGGER:-PT15M
ACTION:DISPLAY
END:VALARM
TRANSP:OPAQUE
END:VEVENT
END:VCALENDAR
