BEGIN:VCALENDAR
VERSION:2.0
PRODID:-//OmniMagnetCalendar//EN
BEGIN:VEVENT
DTSTAMP:20190625T195740Z
STATUS:CONFIRMED
UID:hcnorthshore.clubs.harvard.edu172
DTSTART:20190319T223000Z
DTEND:20190320T013000Z
LOCATION:Hawthorne Hotel, 18 Washington Square , Salem, MA, 01970,
SUMMARY:Coastal Environment Disoveries
DESCRIPTION:
BEGIN:VALARM
TRIGGER:-PT15M
ACTION:DISPLAY
END:VALARM
TRANSP:OPAQUE
END:VEVENT
END:VCALENDAR
