BEGIN:VCALENDAR
VERSION:2.0
PRODID:-//OmniMagnetCalendar//EN
BEGIN:VEVENT
DTSTAMP:20190625T195740Z
STATUS:CONFIRMED
UID:hcnorthshore.clubs.harvard.edu168
DTSTART:20181120T230000Z
DTEND:20181121T020000Z
LOCATION:Hawthorne Hotel, 18 Washington Square, Salem, MA, 01970,
SUMMARY:Talk on the 1917 Halifax munitions explosion
DESCRIPTION:
BEGIN:VALARM
TRIGGER:-PT15M
ACTION:DISPLAY
END:VALARM
TRANSP:OPAQUE
END:VEVENT
END:VCALENDAR
